BEGIN:VCALENDAR
VERSION:2.0
PRODID:-//Eventin//Event Calendar//EN
CALSCALE:GREGORIAN
METHOD:PUBLISH
BEGIN:VEVENT
UID:9be123f149f2f91375b4cbbc65b8f521@cruiserfreun.de
SUMMARY:Fellows Ride Odenwald 2026
DESCRIPTION:Anmeldung und Infos unter Motorraddemos für Depressionshilfe |
  Fellows Ride
LOCATION:Odenwald
DTSTAMP:20260420T132954Z
DTSTART:20260829T080000Z
DTEND:20260829T140000Z
END:VEVENT
END:VCALENDAR
